BEGIN:VCALENDAR
VERSION:2.0
PRODID:-//Kitchener Schwaben Club - ECPv6.15.15//NONSGML v1.0//EN
CALSCALE:GREGORIAN
METHOD:PUBLISH
X-ORIGINAL-URL:https://kitchenerschwabenclub.com
X-WR-CALDESC:Events for Kitchener Schwaben Club
REFRESH-INTERVAL;VALUE=DURATION:PT1H
X-Robots-Tag:noindex
X-PUBLISHED-TTL:PT1H
BEGIN:VTIMEZONE
TZID:America/Toronto
BEGIN:DAYLIGHT
TZOFFSETFROM:-0500
TZOFFSETTO:-0400
TZNAME:EDT
DTSTART:20220313T070000
END:DAYLIGHT
BEGIN:STANDARD
TZOFFSETFROM:-0400
TZOFFSETTO:-0500
TZNAME:EST
DTSTART:20221106T060000
END:STANDARD
BEGIN:DAYLIGHT
TZOFFSETFROM:-0500
TZOFFSETTO:-0400
TZNAME:EDT
DTSTART:20230312T070000
END:DAYLIGHT
BEGIN:STANDARD
TZOFFSETFROM:-0400
TZOFFSETTO:-0500
TZNAME:EST
DTSTART:20231105T060000
END:STANDARD
BEGIN:DAYLIGHT
TZOFFSETFROM:-0500
TZOFFSETTO:-0400
TZNAME:EDT
DTSTART:20240310T070000
END:DAYLIGHT
BEGIN:STANDARD
TZOFFSETFROM:-0400
TZOFFSETTO:-0500
TZNAME:EST
DTSTART:20241103T060000
END:STANDARD
END:VTIMEZONE
BEGIN:VEVENT
DTSTART;TZID=America/Toronto:20230901T170000
DTEND;TZID=America/Toronto:20230903T230000
DTSTAMP:20260424T062107
CREATED:20230712T014011Z
LAST-MODIFIED:20230712T014011Z
UID:6924-1693587600-1693782000@kitchenerschwabenclub.com
SUMMARY:Landestrachtenfest- Mansfield OH
DESCRIPTION:
URL:https://kitchenerschwabenclub.com/event/landestrachtenfest-mansfield-oh/
END:VEVENT
BEGIN:VEVENT
DTSTART;TZID=America/Toronto:20230908T170000
DTEND;TZID=America/Toronto:20230908T200000
DTSTAMP:20260424T062107
CREATED:20230712T013735Z
LAST-MODIFIED:20230721T015625Z
UID:6918-1694192400-1694203200@kitchenerschwabenclub.com
SUMMARY:Fundraiser BBQ for Schwaben Dancers
DESCRIPTION:
URL:https://kitchenerschwabenclub.com/event/fundraiser-bbq-for-schwaben-dancers/
END:VEVENT
BEGIN:VEVENT
DTSTART;TZID=America/Toronto:20230916T080000
DTEND;TZID=America/Toronto:20230916T200000
DTSTAMP:20260424T062107
CREATED:20230806T104811Z
LAST-MODIFIED:20230816T002924Z
UID:6967-1694851200-1694894400@kitchenerschwabenclub.com
SUMMARY:Niagara Falls bus trip - Schwaben Dancers Fundraiser
DESCRIPTION:
URL:https://kitchenerschwabenclub.com/event/niagara-falls-bus-trip-schwaben-dancers-fundraiser/
END:VEVENT
BEGIN:VEVENT
DTSTART;TZID=America/Toronto:20230920T190000
DTEND;TZID=America/Toronto:20230920T210000
DTSTAMP:20260424T062107
CREATED:20230712T013909Z
LAST-MODIFIED:20230712T013909Z
UID:6922-1695236400-1695243600@kitchenerschwabenclub.com
SUMMARY:Members meeting
DESCRIPTION:
URL:https://kitchenerschwabenclub.com/event/members-meeting-9/
END:VEVENT
BEGIN:VEVENT
DTSTART;TZID=America/Toronto:20230923T170000
DTEND;TZID=America/Toronto:20230923T233000
DTSTAMP:20260424T062107
CREATED:20230712T013833Z
LAST-MODIFIED:20230721T015650Z
UID:6920-1695488400-1695511800@kitchenerschwabenclub.com
SUMMARY:Kirchweih
DESCRIPTION:
URL:https://kitchenerschwabenclub.com/event/kirchweih/
END:VEVENT
BEGIN:VEVENT
DTSTART;TZID=America/Toronto:20230925T190000
DTEND;TZID=America/Toronto:20230925T210000
DTSTAMP:20260424T062107
CREATED:20230809T024207Z
LAST-MODIFIED:20230816T002907Z
UID:6972-1695668400-1695675600@kitchenerschwabenclub.com
SUMMARY:Oktoberfest set up
DESCRIPTION:
URL:https://kitchenerschwabenclub.com/event/oktoberfest-set-up/
END:VEVENT
END:VCALENDAR