BEGIN:VCALENDAR
VERSION:2.0
PRODID:-//Kitchener Schwaben Club - ECPv6.15.15//NONSGML v1.0//EN
CALSCALE:GREGORIAN
METHOD:PUBLISH
X-ORIGINAL-URL:https://kitchenerschwabenclub.com
X-WR-CALDESC:Events for Kitchener Schwaben Club
REFRESH-INTERVAL;VALUE=DURATION:PT1H
X-Robots-Tag:noindex
X-PUBLISHED-TTL:PT1H
BEGIN:VTIMEZONE
TZID:America/Toronto
BEGIN:DAYLIGHT
TZOFFSETFROM:-0500
TZOFFSETTO:-0400
TZNAME:EDT
DTSTART:20220313T070000
END:DAYLIGHT
BEGIN:STANDARD
TZOFFSETFROM:-0400
TZOFFSETTO:-0500
TZNAME:EST
DTSTART:20221106T060000
END:STANDARD
BEGIN:DAYLIGHT
TZOFFSETFROM:-0500
TZOFFSETTO:-0400
TZNAME:EDT
DTSTART:20230312T070000
END:DAYLIGHT
BEGIN:STANDARD
TZOFFSETFROM:-0400
TZOFFSETTO:-0500
TZNAME:EST
DTSTART:20231105T060000
END:STANDARD
BEGIN:DAYLIGHT
TZOFFSETFROM:-0500
TZOFFSETTO:-0400
TZNAME:EDT
DTSTART:20240310T070000
END:DAYLIGHT
BEGIN:STANDARD
TZOFFSETFROM:-0400
TZOFFSETTO:-0500
TZNAME:EST
DTSTART:20241103T060000
END:STANDARD
END:VTIMEZONE
BEGIN:VEVENT
DTSTART;TZID=America/Toronto:20230403T190000
DTEND;TZID=America/Toronto:20230403T210000
DTSTAMP:20260424T054024
CREATED:20230319T235017Z
LAST-MODIFIED:20230319T235747Z
UID:6560-1680548400-1680555600@kitchenerschwabenclub.com
SUMMARY:Dance Lessons- week 2-open to all ages\, everyone welcome
DESCRIPTION:
URL:https://kitchenerschwabenclub.com/event/dance-lessons-week-2/
END:VEVENT
BEGIN:VEVENT
DTSTART;TZID=America/Toronto:20230410T190000
DTEND;TZID=America/Toronto:20230410T210000
DTSTAMP:20260424T054024
CREATED:20230319T235115Z
LAST-MODIFIED:20230319T235711Z
UID:6562-1681153200-1681160400@kitchenerschwabenclub.com
SUMMARY:Dance Lessons - week 3-open to all ages\, everyone welcome
DESCRIPTION:
URL:https://kitchenerschwabenclub.com/event/dance-lessons-week-3/
END:VEVENT
BEGIN:VEVENT
DTSTART;TZID=America/Toronto:20230414T193000
DTEND;TZID=America/Toronto:20230414T233000
DTSTAMP:20260424T054024
CREATED:20230217T160249Z
LAST-MODIFIED:20230414T100733Z
UID:6438-1681500600-1681515000@kitchenerschwabenclub.com
SUMMARY:80's themed night
DESCRIPTION:
URL:https://kitchenerschwabenclub.com/event/80s-themed-night/
END:VEVENT
BEGIN:VEVENT
DTSTART;TZID=America/Toronto:20230415T163000
DTEND;TZID=America/Toronto:20230415T193000
DTSTAMP:20260424T054024
CREATED:20230217T160808Z
LAST-MODIFIED:20230217T160808Z
UID:6446-1681576200-1681587000@kitchenerschwabenclub.com
SUMMARY:Spaghetti Fundraiser hosted by Kinder/Jugendgruppe
DESCRIPTION:
URL:https://kitchenerschwabenclub.com/event/spaghetti-fundraiser-hosted-by-kinder-jugendgruppe/
END:VEVENT
BEGIN:VEVENT
DTSTART;TZID=America/Toronto:20230417T190000
DTEND;TZID=America/Toronto:20230417T210000
DTSTAMP:20260424T054024
CREATED:20230319T235158Z
LAST-MODIFIED:20230319T235642Z
UID:6564-1681758000-1681765200@kitchenerschwabenclub.com
SUMMARY:Dance Lessons - week 4 -open to all ages\, everyone welcome
DESCRIPTION:
URL:https://kitchenerschwabenclub.com/event/dance-lessons-week-4-open-to-everyone-all-ages/
END:VEVENT
BEGIN:VEVENT
DTSTART;TZID=America/Toronto:20230419T190000
DTEND;TZID=America/Toronto:20230419T210000
DTSTAMP:20260424T054024
CREATED:20230217T164237Z
LAST-MODIFIED:20230217T164237Z
UID:6482-1681930800-1681938000@kitchenerschwabenclub.com
SUMMARY:Members meeting
DESCRIPTION:
URL:https://kitchenerschwabenclub.com/event/members-meeting-6/
END:VEVENT
BEGIN:VEVENT
DTSTART;TZID=America/Toronto:20230422T120000
DTEND;TZID=America/Toronto:20230422T140000
DTSTAMP:20260424T054024
CREATED:20230217T160918Z
LAST-MODIFIED:20230217T160950Z
UID:6449-1682164800-1682172000@kitchenerschwabenclub.com
SUMMARY:Canadian Verband meeting hosted by Schwaben Club
DESCRIPTION:
URL:https://kitchenerschwabenclub.com/event/canadian-verband-meeting/
END:VEVENT
BEGIN:VEVENT
DTSTART;TZID=America/Toronto:20230422T170000
DTEND;TZID=America/Toronto:20230422T233000
DTSTAMP:20260424T054024
CREATED:20230120T143315Z
LAST-MODIFIED:20230308T032613Z
UID:6220-1682182800-1682206200@kitchenerschwabenclub.com
SUMMARY:Landestrachtenfest -hosted by Schwaben club Kitchener
DESCRIPTION:
URL:https://kitchenerschwabenclub.com/event/landestrachtenfest-hosted-by-schwaben-club-kitchener/
END:VEVENT
BEGIN:VEVENT
DTSTART;TZID=America/Toronto:20230424T190000
DTEND;TZID=America/Toronto:20230424T210000
DTSTAMP:20260424T054024
CREATED:20230319T235300Z
LAST-MODIFIED:20230319T235354Z
UID:6566-1682362800-1682370000@kitchenerschwabenclub.com
SUMMARY:Dance Lessons- week 5 - open to all ages\, everyone welcome
DESCRIPTION:
URL:https://kitchenerschwabenclub.com/event/dance-lessons-week-5/
END:VEVENT
END:VCALENDAR