BEGIN:VCALENDAR
VERSION:2.0
PRODID:-//Kitchener Schwaben Club - ECPv6.15.15//NONSGML v1.0//EN
CALSCALE:GREGORIAN
METHOD:PUBLISH
X-ORIGINAL-URL:https://kitchenerschwabenclub.com
X-WR-CALDESC:Events for Kitchener Schwaben Club
REFRESH-INTERVAL;VALUE=DURATION:PT1H
X-Robots-Tag:noindex
X-PUBLISHED-TTL:PT1H
BEGIN:VTIMEZONE
TZID:America/Toronto
BEGIN:DAYLIGHT
TZOFFSETFROM:-0500
TZOFFSETTO:-0400
TZNAME:EDT
DTSTART:20200308T070000
END:DAYLIGHT
BEGIN:STANDARD
TZOFFSETFROM:-0400
TZOFFSETTO:-0500
TZNAME:EST
DTSTART:20201101T060000
END:STANDARD
BEGIN:DAYLIGHT
TZOFFSETFROM:-0500
TZOFFSETTO:-0400
TZNAME:EDT
DTSTART:20210314T070000
END:DAYLIGHT
BEGIN:STANDARD
TZOFFSETFROM:-0400
TZOFFSETTO:-0500
TZNAME:EST
DTSTART:20211107T060000
END:STANDARD
BEGIN:DAYLIGHT
TZOFFSETFROM:-0500
TZOFFSETTO:-0400
TZNAME:EDT
DTSTART:20220313T070000
END:DAYLIGHT
BEGIN:STANDARD
TZOFFSETFROM:-0400
TZOFFSETTO:-0500
TZNAME:EST
DTSTART:20221106T060000
END:STANDARD
END:VTIMEZONE
BEGIN:VEVENT
DTSTART;TZID=America/Toronto:20211202T180000
DTEND;TZID=America/Toronto:20211202T210000
DTSTAMP:20260425T154315
CREATED:20211113T162841Z
LAST-MODIFIED:20211113T162841Z
UID:4412-1638468000-1638478800@kitchenerschwabenclub.com
SUMMARY:Thursday Night Members' Night
DESCRIPTION:
URL:https://kitchenerschwabenclub.com/event/thursday-night-members-night-3/
END:VEVENT
BEGIN:VEVENT
DTSTART;TZID=America/Toronto:20211203T160000
DTEND;TZID=America/Toronto:20211203T190000
DTSTAMP:20260425T154315
CREATED:20211102T020103Z
LAST-MODIFIED:20211102T020103Z
UID:4372-1638547200-1638558000@kitchenerschwabenclub.com
SUMMARY:Fish Fry Friday
DESCRIPTION:
URL:https://kitchenerschwabenclub.com/event/fish-fry-friday-2/
END:VEVENT
BEGIN:VEVENT
DTSTART;TZID=America/Toronto:20211204T170000
DTEND;TZID=America/Toronto:20211204T230000
DTSTAMP:20260425T154315
CREATED:20210724T014127Z
LAST-MODIFIED:20210724T014127Z
UID:3882-1638637200-1638658800@kitchenerschwabenclub.com
SUMMARY:Schwaben Club Christmas
DESCRIPTION:
URL:https://kitchenerschwabenclub.com/event/schwaben-club-christmas/
END:VEVENT
BEGIN:VEVENT
DTSTART;TZID=America/Toronto:20211205T113000
DTEND;TZID=America/Toronto:20211205T153000
DTSTAMP:20260425T154315
CREATED:20211027T223136Z
LAST-MODIFIED:20211027T223136Z
UID:4361-1638703800-1638718200@kitchenerschwabenclub.com
SUMMARY:Christmas Luncheon
DESCRIPTION:
URL:https://kitchenerschwabenclub.com/event/christmas-luncheon/
END:VEVENT
BEGIN:VEVENT
DTSTART;TZID=America/Toronto:20211211T090000
DTEND;TZID=America/Toronto:20211211T170000
DTSTAMP:20260425T154315
CREATED:20211124T022035Z
LAST-MODIFIED:20211124T022035Z
UID:4483-1639213200-1639242000@kitchenerschwabenclub.com
SUMMARY:Christmas Market
DESCRIPTION:
URL:https://kitchenerschwabenclub.com/event/christmas-market/
END:VEVENT
BEGIN:VEVENT
DTSTART;TZID=America/Toronto:20211217T160000
DTEND;TZID=America/Toronto:20211217T190000
DTSTAMP:20260425T154315
CREATED:20211102T020305Z
LAST-MODIFIED:20211217T015635Z
UID:4378-1639756800-1639767600@kitchenerschwabenclub.com
SUMMARY:Schnitzel Friday CANCELLED
DESCRIPTION:
URL:https://kitchenerschwabenclub.com/event/schnitzel-friday-2/
END:VEVENT
END:VCALENDAR