BEGIN:VCALENDAR
VERSION:2.0
PRODID:-//Kitchener Schwaben Club - ECPv6.15.15//NONSGML v1.0//EN
CALSCALE:GREGORIAN
METHOD:PUBLISH
X-ORIGINAL-URL:https://kitchenerschwabenclub.com
X-WR-CALDESC:Events for Kitchener Schwaben Club
REFRESH-INTERVAL;VALUE=DURATION:PT1H
X-Robots-Tag:noindex
X-PUBLISHED-TTL:PT1H
BEGIN:VTIMEZONE
TZID:America/Toronto
BEGIN:DAYLIGHT
TZOFFSETFROM:-0500
TZOFFSETTO:-0400
TZNAME:EDT
DTSTART:20200308T070000
END:DAYLIGHT
BEGIN:STANDARD
TZOFFSETFROM:-0400
TZOFFSETTO:-0500
TZNAME:EST
DTSTART:20201101T060000
END:STANDARD
BEGIN:DAYLIGHT
TZOFFSETFROM:-0500
TZOFFSETTO:-0400
TZNAME:EDT
DTSTART:20210314T070000
END:DAYLIGHT
BEGIN:STANDARD
TZOFFSETFROM:-0400
TZOFFSETTO:-0500
TZNAME:EST
DTSTART:20211107T060000
END:STANDARD
BEGIN:DAYLIGHT
TZOFFSETFROM:-0500
TZOFFSETTO:-0400
TZNAME:EDT
DTSTART:20220313T070000
END:DAYLIGHT
BEGIN:STANDARD
TZOFFSETFROM:-0400
TZOFFSETTO:-0500
TZNAME:EST
DTSTART:20221106T060000
END:STANDARD
END:VTIMEZONE
BEGIN:VEVENT
DTSTART;TZID=America/Toronto:20211002T170000
DTEND;TZID=America/Toronto:20211002T233000
DTSTAMP:20260425T170306
CREATED:20210724T011924Z
LAST-MODIFIED:20210724T011924Z
UID:3858-1633194000-1633217400@kitchenerschwabenclub.com
SUMMARY:Oktoberfest
DESCRIPTION:
URL:https://kitchenerschwabenclub.com/event/oktoberfest-5/
END:VEVENT
BEGIN:VEVENT
DTSTART;TZID=America/Toronto:20211003T110000
DTEND;TZID=America/Toronto:20211003T170000
DTSTAMP:20260425T170306
CREATED:20210724T012002Z
LAST-MODIFIED:20210724T012033Z
UID:3860-1633258800-1633280400@kitchenerschwabenclub.com
SUMMARY:Oktoberfest
DESCRIPTION:
URL:https://kitchenerschwabenclub.com/event/oktoberfest-6/
END:VEVENT
BEGIN:VEVENT
DTSTART;TZID=America/Toronto:20211008T170000
DTEND;TZID=America/Toronto:20211008T233000
DTSTAMP:20260425T170306
CREATED:20210724T011447Z
LAST-MODIFIED:20210724T011447Z
UID:3854-1633712400-1633735800@kitchenerschwabenclub.com
SUMMARY:Oktoberfest
DESCRIPTION:
URL:https://kitchenerschwabenclub.com/event/oktoberfest-4/
END:VEVENT
BEGIN:VEVENT
DTSTART;TZID=America/Toronto:20211009T170000
DTEND;TZID=America/Toronto:20211009T233000
DTSTAMP:20260425T170306
CREATED:20210724T011316Z
LAST-MODIFIED:20210724T011316Z
UID:3852-1633798800-1633822200@kitchenerschwabenclub.com
SUMMARY:Oktoberfest
DESCRIPTION:
URL:https://kitchenerschwabenclub.com/event/oktoberfest-3/
END:VEVENT
BEGIN:VEVENT
DTSTART;TZID=America/Toronto:20211010T110000
DTEND;TZID=America/Toronto:20211010T170000
DTSTAMP:20260425T170306
CREATED:20210724T011705Z
LAST-MODIFIED:20210724T011705Z
UID:3856-1633863600-1633885200@kitchenerschwabenclub.com
SUMMARY:Oktoberfest Schwaben Club Family Day
DESCRIPTION:
URL:https://kitchenerschwabenclub.com/event/oktoberfest-schwaben-club-family-day/
END:VEVENT
BEGIN:VEVENT
DTSTART;TZID=America/Toronto:20211015T170000
DTEND;TZID=America/Toronto:20211015T233000
DTSTAMP:20260425T170306
CREATED:20210724T012113Z
LAST-MODIFIED:20210724T012113Z
UID:3862-1634317200-1634340600@kitchenerschwabenclub.com
SUMMARY:Oktoberfest
DESCRIPTION:
URL:https://kitchenerschwabenclub.com/event/oktoberfest-7/
END:VEVENT
BEGIN:VEVENT
DTSTART;TZID=America/Toronto:20211016T170000
DTEND;TZID=America/Toronto:20211016T233000
DTSTAMP:20260425T170306
CREATED:20210724T012150Z
LAST-MODIFIED:20210724T012150Z
UID:3864-1634403600-1634427000@kitchenerschwabenclub.com
SUMMARY:Oktoberfest
DESCRIPTION:
URL:https://kitchenerschwabenclub.com/event/oktoberfest-8/
END:VEVENT
BEGIN:VEVENT
DTSTART;TZID=America/Toronto:20211020T190000
DTEND;TZID=America/Toronto:20211020T220000
DTSTAMP:20260425T170306
CREATED:20210724T012458Z
LAST-MODIFIED:20210724T012458Z
UID:3868-1634756400-1634767200@kitchenerschwabenclub.com
SUMMARY:Members' Meeting
DESCRIPTION:
URL:https://kitchenerschwabenclub.com/event/members-meeting-3/
END:VEVENT
BEGIN:VEVENT
DTSTART;TZID=America/Toronto:20211026T183000
DTEND;TZID=America/Toronto:20211026T203000
DTSTAMP:20260425T170306
CREATED:20210724T011115Z
LAST-MODIFIED:20210724T011115Z
UID:3850-1635273000-1635280200@kitchenerschwabenclub.com
SUMMARY:Frauengruppe Meeting
DESCRIPTION:
URL:https://kitchenerschwabenclub.com/event/frauengruppe-meeting-5/
END:VEVENT
BEGIN:VEVENT
DTSTART;TZID=America/Toronto:20211029T200000
DTEND;TZID=America/Toronto:20211029T233000
DTSTAMP:20260425T170306
CREATED:20210817T212357Z
LAST-MODIFIED:20210818T041605Z
UID:4035-1635537600-1635550200@kitchenerschwabenclub.com
SUMMARY:Freundschaftgruppe Escape Room Event
DESCRIPTION:
URL:https://kitchenerschwabenclub.com/event/freundschaftgruppe-escape-room-event/
END:VEVENT
END:VCALENDAR