BEGIN:VCALENDAR
VERSION:2.0
PRODID:-//Kitchener Schwaben Club - ECPv6.15.15//NONSGML v1.0//EN
CALSCALE:GREGORIAN
METHOD:PUBLISH
X-ORIGINAL-URL:https://kitchenerschwabenclub.com
X-WR-CALDESC:Events for Kitchener Schwaben Club
REFRESH-INTERVAL;VALUE=DURATION:PT1H
X-Robots-Tag:noindex
X-PUBLISHED-TTL:PT1H
BEGIN:VTIMEZONE
TZID:America/Toronto
BEGIN:DAYLIGHT
TZOFFSETFROM:-0500
TZOFFSETTO:-0400
TZNAME:EDT
DTSTART:20230312T070000
END:DAYLIGHT
BEGIN:STANDARD
TZOFFSETFROM:-0400
TZOFFSETTO:-0500
TZNAME:EST
DTSTART:20231105T060000
END:STANDARD
BEGIN:DAYLIGHT
TZOFFSETFROM:-0500
TZOFFSETTO:-0400
TZNAME:EDT
DTSTART:20240310T070000
END:DAYLIGHT
BEGIN:STANDARD
TZOFFSETFROM:-0400
TZOFFSETTO:-0500
TZNAME:EST
DTSTART:20241103T060000
END:STANDARD
BEGIN:DAYLIGHT
TZOFFSETFROM:-0500
TZOFFSETTO:-0400
TZNAME:EDT
DTSTART:20250309T070000
END:DAYLIGHT
BEGIN:STANDARD
TZOFFSETFROM:-0400
TZOFFSETTO:-0500
TZNAME:EST
DTSTART:20251102T060000
END:STANDARD
END:VTIMEZONE
BEGIN:VEVENT
DTSTART;TZID=America/Toronto:20241004T190000
DTEND;TZID=America/Toronto:20241005T010000
DTSTAMP:20260421T090032
CREATED:20240709T105021Z
LAST-MODIFIED:20240709T105159Z
UID:7905-1728068400-1728090000@kitchenerschwabenclub.com
SUMMARY:Oktoberfest at Schwaben Club
DESCRIPTION:
URL:https://kitchenerschwabenclub.com/event/7905/
END:VEVENT
BEGIN:VEVENT
DTSTART;TZID=America/Toronto:20241005T190000
DTEND;TZID=America/Toronto:20241006T010000
DTSTAMP:20260421T090032
CREATED:20240821T150023Z
LAST-MODIFIED:20240821T150044Z
UID:7948-1728154800-1728176400@kitchenerschwabenclub.com
SUMMARY:Oktoberfest at Schwaben Club
DESCRIPTION:
URL:https://kitchenerschwabenclub.com/event/oktoberfest-at-schwaben-club-3/
END:VEVENT
END:VCALENDAR