BEGIN:VCALENDAR
VERSION:2.0
PRODID:-//Kitchener Schwaben Club - ECPv6.15.15//NONSGML v1.0//EN
CALSCALE:GREGORIAN
METHOD:PUBLISH
X-WR-CALNAME:Kitchener Schwaben Club
X-ORIGINAL-URL:https://kitchenerschwabenclub.com
X-WR-CALDESC:Events for Kitchener Schwaben Club
REFRESH-INTERVAL;VALUE=DURATION:PT1H
X-Robots-Tag:noindex
X-PUBLISHED-TTL:PT1H
BEGIN:VTIMEZONE
TZID:America/Toronto
BEGIN:DAYLIGHT
TZOFFSETFROM:-0500
TZOFFSETTO:-0400
TZNAME:EDT
DTSTART:20230312T070000
END:DAYLIGHT
BEGIN:STANDARD
TZOFFSETFROM:-0400
TZOFFSETTO:-0500
TZNAME:EST
DTSTART:20231105T060000
END:STANDARD
BEGIN:DAYLIGHT
TZOFFSETFROM:-0500
TZOFFSETTO:-0400
TZNAME:EDT
DTSTART:20240310T070000
END:DAYLIGHT
BEGIN:STANDARD
TZOFFSETFROM:-0400
TZOFFSETTO:-0500
TZNAME:EST
DTSTART:20241103T060000
END:STANDARD
BEGIN:DAYLIGHT
TZOFFSETFROM:-0500
TZOFFSETTO:-0400
TZNAME:EDT
DTSTART:20250309T070000
END:DAYLIGHT
BEGIN:STANDARD
TZOFFSETFROM:-0400
TZOFFSETTO:-0500
TZNAME:EST
DTSTART:20251102T060000
END:STANDARD
END:VTIMEZONE
BEGIN:VEVENT
DTSTART;TZID=America/Toronto:20240816T170000
DTEND;TZID=America/Toronto:20240816T200000
DTSTAMP:20260424T231718
CREATED:20240709T104406Z
LAST-MODIFIED:20240709T104406Z
UID:7901-1723827600-1723838400@kitchenerschwabenclub.com
SUMMARY:Fundraiser BBQ - Donau Dancers
DESCRIPTION:
URL:https://kitchenerschwabenclub.com/event/fundraiser-bbq-donau-dancers/
END:VEVENT
END:VCALENDAR