BEGIN:VCALENDAR
VERSION:2.0
PRODID:-//Kitchener Schwaben Club - ECPv6.15.15//NONSGML v1.0//EN
CALSCALE:GREGORIAN
METHOD:PUBLISH
X-ORIGINAL-URL:https://kitchenerschwabenclub.com
X-WR-CALDESC:Events for Kitchener Schwaben Club
REFRESH-INTERVAL;VALUE=DURATION:PT1H
X-Robots-Tag:noindex
X-PUBLISHED-TTL:PT1H
BEGIN:VTIMEZONE
TZID:America/Toronto
BEGIN:DAYLIGHT
TZOFFSETFROM:-0500
TZOFFSETTO:-0400
TZNAME:EDT
DTSTART:20200308T070000
END:DAYLIGHT
BEGIN:STANDARD
TZOFFSETFROM:-0400
TZOFFSETTO:-0500
TZNAME:EST
DTSTART:20201101T060000
END:STANDARD
BEGIN:DAYLIGHT
TZOFFSETFROM:-0500
TZOFFSETTO:-0400
TZNAME:EDT
DTSTART:20210314T070000
END:DAYLIGHT
BEGIN:STANDARD
TZOFFSETFROM:-0400
TZOFFSETTO:-0500
TZNAME:EST
DTSTART:20211107T060000
END:STANDARD
BEGIN:DAYLIGHT
TZOFFSETFROM:-0500
TZOFFSETTO:-0400
TZNAME:EDT
DTSTART:20220313T070000
END:DAYLIGHT
BEGIN:STANDARD
TZOFFSETFROM:-0400
TZOFFSETTO:-0500
TZNAME:EST
DTSTART:20221106T060000
END:STANDARD
END:VTIMEZONE
BEGIN:VEVENT
DTSTART;TZID=America/Toronto:20210813T143000
DTEND;TZID=America/Toronto:20210813T163000
DTSTAMP:20260420T115149
CREATED:20210711T233403Z
LAST-MODIFIED:20210712T005102Z
UID:3761-1628865000-1628872200@kitchenerschwabenclub.com
SUMMARY:Bundesliga Game FC Bayern vs Borussia Mönchengladbach
DESCRIPTION:
URL:https://kitchenerschwabenclub.com/event/bundesliga-game-fc-bayern-vs-borussia-monchengladbach/
END:VEVENT
BEGIN:VEVENT
DTSTART;TZID=America/Toronto:20210813T160000
DTEND;TZID=America/Toronto:20210813T190000
DTSTAMP:20260420T115149
CREATED:20210724T003940Z
LAST-MODIFIED:20210724T003940Z
UID:3822-1628870400-1628881200@kitchenerschwabenclub.com
SUMMARY:Goulash Dinner
DESCRIPTION:
URL:https://kitchenerschwabenclub.com/event/goulash-dinner/
END:VEVENT
END:VCALENDAR